BEGIN:VCALENDAR
VERSION:2.0
PRODID:-//PERMIM - ECPv6.8.3//NONSGML v1.0//EN
CALSCALE:GREGORIAN
METHOD:PUBLISH
X-WR-CALNAME:PERMIM
X-ORIGINAL-URL:https://permim.org
X-WR-CALDESC:Events for PERMIM
REFRESH-INTERVAL;VALUE=DURATION:PT1H
X-Robots-Tag:noindex
X-PUBLISHED-TTL:PT1H
BEGIN:VTIMEZONE
TZID:UTC
BEGIN:STANDARD
TZOFFSETFROM:+0000
TZOFFSETTO:+0000
TZNAME:UTC
DTSTART:20190101T000000
END:STANDARD
END:VTIMEZONE
BEGIN:VEVENT
DTSTART;TZID=UTC:20190310T080000
DTEND;TZID=UTC:20190310T163000
DTSTAMP:20260421T123711
CREATED:20190301T073704Z
LAST-MODIFIED:20190301T073704Z
UID:3935-1552204800-1552235400@permim.org
SUMMARY:Kursus Jenazah
DESCRIPTION:
URL:https://permim.org/event/kursus-jenazah/
LOCATION:Madrasah Sirajul Hudha\, 12\, Jalan 3\, Taman Batu Caves\, Batu Caves\, Selangor\, 68100\, Malaysia
CATEGORIES:PERMIM Events
END:VEVENT
BEGIN:VEVENT
DTSTART;TZID=UTC:20190303T100000
DTEND;TZID=UTC:20190303T140000
DTSTAMP:20260421T123711
CREATED:20190301T063127Z
LAST-MODIFIED:20190301T063207Z
UID:3928-1551607200-1551621600@permim.org
SUMMARY:PBLM - Pertandingan Bowling
DESCRIPTION:
URL:https://permim.org/event/pblm-pertandingan-bowling/
LOCATION:Prangin Mall\, Pinang\, Malaysia
CATEGORIES:PERMIM Events
END:VEVENT
BEGIN:VEVENT
DTSTART;TZID=UTC:20190303T080000
DTEND;TZID=UTC:20190303T170000
DTSTAMP:20260421T123711
CREATED:20190301T074222Z
LAST-MODIFIED:20190304T182605Z
UID:3939-1551600000-1551632400@permim.org
SUMMARY:PIMM - Sambutan Mauldiur Rasul & 100 Tahun Penubuhan PIMM
DESCRIPTION:Tarikh          : 03 Mac 2019 ( Ahad ) \nMasa            : 8.00 pagi \nTempat        : Perkarangan Surau PIMM\, Banda Kaba\, Melaka
URL:https://permim.org/event/pimm-sambutan-mauldiur-rasul-100-tahun-penubuhan-pimm/
LOCATION:Perkarangan Surau PIMM\, Bandar Kaba\, Melaka\, Melaka\, Malaysia
CATEGORIES:PERMIM Events
END:VEVENT
END:VCALENDAR